BEGIN:VCALENDAR
VERSION:2.0
PRODID:-//CCSAM - ECPv6.15.20//NONSGML v1.0//EN
CALSCALE:GREGORIAN
METHOD:PUBLISH
X-WR-CALNAME:CCSAM
X-ORIGINAL-URL:https://ccsam.ca
X-WR-CALDESC:Events for CCSAM
REFRESH-INTERVAL;VALUE=DURATION:PT1H
X-Robots-Tag:noindex
X-PUBLISHED-TTL:PT1H
BEGIN:VTIMEZONE
TZID:America/Winnipeg
BEGIN:DAYLIGHT
TZOFFSETFROM:-0600
TZOFFSETTO:-0500
TZNAME:CDT
DTSTART:20240310T080000
END:DAYLIGHT
BEGIN:STANDARD
TZOFFSETFROM:-0500
TZOFFSETTO:-0600
TZNAME:CST
DTSTART:20241103T070000
END:STANDARD
BEGIN:DAYLIGHT
TZOFFSETFROM:-0600
TZOFFSETTO:-0500
TZNAME:CDT
DTSTART:20250309T080000
END:DAYLIGHT
BEGIN:STANDARD
TZOFFSETFROM:-0500
TZOFFSETTO:-0600
TZNAME:CST
DTSTART:20251102T070000
END:STANDARD
BEGIN:DAYLIGHT
TZOFFSETFROM:-0600
TZOFFSETTO:-0500
TZNAME:CDT
DTSTART:20260308T080000
END:DAYLIGHT
BEGIN:STANDARD
TZOFFSETFROM:-0500
TZOFFSETTO:-0600
TZNAME:CST
DTSTART:20261101T070000
END:STANDARD
BEGIN:DAYLIGHT
TZOFFSETFROM:-0600
TZOFFSETTO:-0500
TZNAME:CDT
DTSTART:20270314T080000
END:DAYLIGHT
BEGIN:STANDARD
TZOFFSETFROM:-0500
TZOFFSETTO:-0600
TZNAME:CST
DTSTART:20271107T070000
END:STANDARD
END:VTIMEZONE
BEGIN:VEVENT
DTSTART;TZID=America/Winnipeg:20260318T180000
DTEND;TZID=America/Winnipeg:20260318T180000
DTSTAMP:20260419T094338
CREATED:20260210T182040Z
LAST-MODIFIED:20260210T182209Z
UID:10000925-1773856800-1773856800@ccsam.ca
SUMMARY:Wednesday Night Race
DESCRIPTION:More race series information: Wednesday Night Race Series \n \nRace format definitions \n\nDec 17: CANCELLED – poor conditions\nJan 7: Free\nJan 14: Classic\nJan 21: Free **Qualifier race for Manitoba Games Winnipeg Blue & Gold teams** – CANCELLED – extreme cold\nJan 28: Classic\, Schools race – CANCELLED – windchill\nFeb 4: Biathlon (Free)\nFeb 11: Classic\nFeb 18: Biathlon (Free)\, Schools race\nFeb 25: Classic\nMar 4: Skate\nMar 11: Classic\nMar 18: Costume relay\n\nPlease purchase your Windsor Park Nordic Centre trail pass (if you are not a season pass holder) and be prepared to show your pass to clubhouse staff or volunteer when asked. \nEvent Cancellation Guidelines\n\nAt temperatures of -20C to -25C (without the wind-chill)\, it is at the discretion of the Race Committee to decide on the status of the Wednesday Night Race\, taking the wind-chill and forecasts into consideration.\nAt temperatures of -25C or less (without the wind-chill)\, the Wednesday Night Race cannot be held.\nThe race organizers may choose to defer the race to Thursday if the weather is too cold to hold it on the Wednesday. The decision will be made by 4:00 PM on Wednesday and conveyed to the staff at the Windsor Park Nordic Centre 204-253-9236.\n\nMore information here: Event Cancellation Guidelines
URL:https://ccsam.ca/event/wednesday-night-race-5-3-2/2026-03-18/
LOCATION:Windsor Park Nordic Centre\, 10 Rue Des Meurons\, Winnipeg\, Manitoba\, Canada
CATEGORIES:Competition or Loppet
ORGANIZER;CN="Red River Nordic & Biathlon Club":MAILTO:rrn.skiandbiathlon@gmail.com
END:VEVENT
BEGIN:VEVENT
DTSTART;TZID=America/Winnipeg:20260311T180000
DTEND;TZID=America/Winnipeg:20260311T180000
DTSTAMP:20260419T094338
CREATED:20260210T182040Z
LAST-MODIFIED:20260210T182209Z
UID:10000924-1773252000-1773252000@ccsam.ca
SUMMARY:Wednesday Night Race
DESCRIPTION:More race series information: Wednesday Night Race Series \n \nRace format definitions \n\nDec 17: CANCELLED – poor conditions\nJan 7: Free\nJan 14: Classic\nJan 21: Free **Qualifier race for Manitoba Games Winnipeg Blue & Gold teams** – CANCELLED – extreme cold\nJan 28: Classic\, Schools race – CANCELLED – windchill\nFeb 4: Biathlon (Free)\nFeb 11: Classic\nFeb 18: Biathlon (Free)\, Schools race\nFeb 25: Classic\nMar 4: Skate\nMar 11: Classic\nMar 18: Costume relay\n\nPlease purchase your Windsor Park Nordic Centre trail pass (if you are not a season pass holder) and be prepared to show your pass to clubhouse staff or volunteer when asked. \nEvent Cancellation Guidelines\n\nAt temperatures of -20C to -25C (without the wind-chill)\, it is at the discretion of the Race Committee to decide on the status of the Wednesday Night Race\, taking the wind-chill and forecasts into consideration.\nAt temperatures of -25C or less (without the wind-chill)\, the Wednesday Night Race cannot be held.\nThe race organizers may choose to defer the race to Thursday if the weather is too cold to hold it on the Wednesday. The decision will be made by 4:00 PM on Wednesday and conveyed to the staff at the Windsor Park Nordic Centre 204-253-9236.\n\nMore information here: Event Cancellation Guidelines
URL:https://ccsam.ca/event/wednesday-night-race-5-3-2/2026-03-11/
LOCATION:Windsor Park Nordic Centre\, 10 Rue Des Meurons\, Winnipeg\, Manitoba\, Canada
CATEGORIES:Competition or Loppet
ORGANIZER;CN="Red River Nordic & Biathlon Club":MAILTO:rrn.skiandbiathlon@gmail.com
END:VEVENT
BEGIN:VEVENT
DTSTART;TZID=America/Winnipeg:20260304T180000
DTEND;TZID=America/Winnipeg:20260304T180000
DTSTAMP:20260419T094338
CREATED:20260210T182040Z
LAST-MODIFIED:20260210T182209Z
UID:10000923-1772647200-1772647200@ccsam.ca
SUMMARY:Wednesday Night Race
DESCRIPTION:More race series information: Wednesday Night Race Series \n \nRace format definitions \n\nDec 17: CANCELLED – poor conditions\nJan 7: Free\nJan 14: Classic\nJan 21: Free **Qualifier race for Manitoba Games Winnipeg Blue & Gold teams** – CANCELLED – extreme cold\nJan 28: Classic\, Schools race – CANCELLED – windchill\nFeb 4: Biathlon (Free)\nFeb 11: Classic\nFeb 18: Biathlon (Free)\, Schools race\nFeb 25: Classic\nMar 4: Skate\nMar 11: Classic\nMar 18: Costume relay\n\nPlease purchase your Windsor Park Nordic Centre trail pass (if you are not a season pass holder) and be prepared to show your pass to clubhouse staff or volunteer when asked. \nEvent Cancellation Guidelines\n\nAt temperatures of -20C to -25C (without the wind-chill)\, it is at the discretion of the Race Committee to decide on the status of the Wednesday Night Race\, taking the wind-chill and forecasts into consideration.\nAt temperatures of -25C or less (without the wind-chill)\, the Wednesday Night Race cannot be held.\nThe race organizers may choose to defer the race to Thursday if the weather is too cold to hold it on the Wednesday. The decision will be made by 4:00 PM on Wednesday and conveyed to the staff at the Windsor Park Nordic Centre 204-253-9236.\n\nMore information here: Event Cancellation Guidelines
URL:https://ccsam.ca/event/wednesday-night-race-5-3-2/2026-03-04/
LOCATION:Windsor Park Nordic Centre\, 10 Rue Des Meurons\, Winnipeg\, Manitoba\, Canada
CATEGORIES:Competition or Loppet
ORGANIZER;CN="Red River Nordic & Biathlon Club":MAILTO:rrn.skiandbiathlon@gmail.com
END:VEVENT
BEGIN:VEVENT
DTSTART;VALUE=DATE:20260301
DTEND;VALUE=DATE:20260302
DTSTAMP:20260419T094338
CREATED:20251218T181959Z
LAST-MODIFIED:20260218T174050Z
UID:10000914-1772323200-1772409599@ccsam.ca
SUMMARY:Jackrabbit Jamboree 2026
DESCRIPTION:The Jackrabbit Jamboree is back! \nIt is full day event with orienteering\, games\, races\, and a lunch provided\, starting at 10:00 AM.
URL:https://ccsam.ca/event/jackrabbit-jamboree-2026/
LOCATION:Windsor Park Nordic Centre\, 10 Rue Des Meurons\, Winnipeg\, Manitoba\, Canada
CATEGORIES:Youth activity
ORGANIZER;CN="Red River Nordic & Biathlon Club":MAILTO:rrn.skiandbiathlon@gmail.com
END:VEVENT
BEGIN:VEVENT
DTSTART;TZID=America/Winnipeg:20260225T180000
DTEND;TZID=America/Winnipeg:20260225T180000
DTSTAMP:20260419T094338
CREATED:20260210T182040Z
LAST-MODIFIED:20260210T182209Z
UID:10000922-1772042400-1772042400@ccsam.ca
SUMMARY:Wednesday Night Race
DESCRIPTION:More race series information: Wednesday Night Race Series \n \nRace format definitions \n\nDec 17: CANCELLED – poor conditions\nJan 7: Free\nJan 14: Classic\nJan 21: Free **Qualifier race for Manitoba Games Winnipeg Blue & Gold teams** – CANCELLED – extreme cold\nJan 28: Classic\, Schools race – CANCELLED – windchill\nFeb 4: Biathlon (Free)\nFeb 11: Classic\nFeb 18: Biathlon (Free)\, Schools race\nFeb 25: Classic\nMar 4: Skate\nMar 11: Classic\nMar 18: Costume relay\n\nPlease purchase your Windsor Park Nordic Centre trail pass (if you are not a season pass holder) and be prepared to show your pass to clubhouse staff or volunteer when asked. \nEvent Cancellation Guidelines\n\nAt temperatures of -20C to -25C (without the wind-chill)\, it is at the discretion of the Race Committee to decide on the status of the Wednesday Night Race\, taking the wind-chill and forecasts into consideration.\nAt temperatures of -25C or less (without the wind-chill)\, the Wednesday Night Race cannot be held.\nThe race organizers may choose to defer the race to Thursday if the weather is too cold to hold it on the Wednesday. The decision will be made by 4:00 PM on Wednesday and conveyed to the staff at the Windsor Park Nordic Centre 204-253-9236.\n\nMore information here: Event Cancellation Guidelines
URL:https://ccsam.ca/event/wednesday-night-race-5-3-2/2026-02-25/
LOCATION:Windsor Park Nordic Centre\, 10 Rue Des Meurons\, Winnipeg\, Manitoba\, Canada
CATEGORIES:Competition or Loppet
ORGANIZER;CN="Red River Nordic & Biathlon Club":MAILTO:rrn.skiandbiathlon@gmail.com
END:VEVENT
BEGIN:VEVENT
DTSTART;TZID=America/Winnipeg:20260218T180000
DTEND;TZID=America/Winnipeg:20260218T180000
DTSTAMP:20260419T094338
CREATED:20260210T182040Z
LAST-MODIFIED:20260210T182209Z
UID:10000921-1771437600-1771437600@ccsam.ca
SUMMARY:Wednesday Night Race
DESCRIPTION:More race series information: Wednesday Night Race Series \n \nRace format definitions \n\nDec 17: CANCELLED – poor conditions\nJan 7: Free\nJan 14: Classic\nJan 21: Free **Qualifier race for Manitoba Games Winnipeg Blue & Gold teams** – CANCELLED – extreme cold\nJan 28: Classic\, Schools race – CANCELLED – windchill\nFeb 4: Biathlon (Free)\nFeb 11: Classic\nFeb 18: Biathlon (Free)\, Schools race\nFeb 25: Classic\nMar 4: Skate\nMar 11: Classic\nMar 18: Costume relay\n\nPlease purchase your Windsor Park Nordic Centre trail pass (if you are not a season pass holder) and be prepared to show your pass to clubhouse staff or volunteer when asked. \nEvent Cancellation Guidelines\n\nAt temperatures of -20C to -25C (without the wind-chill)\, it is at the discretion of the Race Committee to decide on the status of the Wednesday Night Race\, taking the wind-chill and forecasts into consideration.\nAt temperatures of -25C or less (without the wind-chill)\, the Wednesday Night Race cannot be held.\nThe race organizers may choose to defer the race to Thursday if the weather is too cold to hold it on the Wednesday. The decision will be made by 4:00 PM on Wednesday and conveyed to the staff at the Windsor Park Nordic Centre 204-253-9236.\n\nMore information here: Event Cancellation Guidelines
URL:https://ccsam.ca/event/wednesday-night-race-5-3-2/2026-02-18/
LOCATION:Windsor Park Nordic Centre\, 10 Rue Des Meurons\, Winnipeg\, Manitoba\, Canada
CATEGORIES:Competition or Loppet
ORGANIZER;CN="Red River Nordic & Biathlon Club":MAILTO:rrn.skiandbiathlon@gmail.com
END:VEVENT
BEGIN:VEVENT
DTSTART;TZID=America/Winnipeg:20260211T180000
DTEND;TZID=America/Winnipeg:20260211T180000
DTSTAMP:20260419T094338
CREATED:20260210T182040Z
LAST-MODIFIED:20260210T182209Z
UID:10000920-1770832800-1770832800@ccsam.ca
SUMMARY:Wednesday Night Race
DESCRIPTION:More race series information: Wednesday Night Race Series \n \nRace format definitions \n\nDec 17: CANCELLED – poor conditions\nJan 7: Free\nJan 14: Classic\nJan 21: Free **Qualifier race for Manitoba Games Winnipeg Blue & Gold teams** – CANCELLED – extreme cold\nJan 28: Classic\, Schools race – CANCELLED – windchill\nFeb 4: Biathlon (Free)\nFeb 11: Classic\nFeb 18: Biathlon (Free)\, Schools race\nFeb 25: Classic\nMar 4: Skate\nMar 11: Classic\nMar 18: Costume relay\n\nPlease purchase your Windsor Park Nordic Centre trail pass (if you are not a season pass holder) and be prepared to show your pass to clubhouse staff or volunteer when asked. \nEvent Cancellation Guidelines\n\nAt temperatures of -20C to -25C (without the wind-chill)\, it is at the discretion of the Race Committee to decide on the status of the Wednesday Night Race\, taking the wind-chill and forecasts into consideration.\nAt temperatures of -25C or less (without the wind-chill)\, the Wednesday Night Race cannot be held.\nThe race organizers may choose to defer the race to Thursday if the weather is too cold to hold it on the Wednesday. The decision will be made by 4:00 PM on Wednesday and conveyed to the staff at the Windsor Park Nordic Centre 204-253-9236.\n\nMore information here: Event Cancellation Guidelines
URL:https://ccsam.ca/event/wednesday-night-race-5-3-2/2026-02-11/
LOCATION:Windsor Park Nordic Centre\, 10 Rue Des Meurons\, Winnipeg\, Manitoba\, Canada
CATEGORIES:Competition or Loppet
ORGANIZER;CN="Red River Nordic & Biathlon Club":MAILTO:rrn.skiandbiathlon@gmail.com
END:VEVENT
BEGIN:VEVENT
DTSTART;TZID=America/Winnipeg:20251227T100000
DTEND;TZID=America/Winnipeg:20251227T100000
DTSTAMP:20260419T094338
CREATED:20250917T200356Z
LAST-MODIFIED:20251217T193252Z
UID:10000884-1766829600-1766829600@ccsam.ca
SUMMARY:Prairie Holiday Loppet 2025
DESCRIPTION:Registration closes 8:00 PM on Dec 26th. \n\nLet’s start the season off with a family oriented loppet at Windsor Park with friends and family outside on skis. \nThere is an event for everyone\, pick your distance and enjoy the trails. Once finished enjoy a hot chocolate and other treats while standing around the fire with family and friends. \n\n\nDetails to come!
URL:https://ccsam.ca/event/prairie-holiday-loppet-2025/
LOCATION:Windsor Park Nordic Centre\, 10 Rue Des Meurons\, Winnipeg\, Manitoba\, Canada
CATEGORIES:Competition or Loppet
ATTACH;FMTTYPE=image/jpeg:https://ccsam.ca/wp-content/uploads/2025/12/DSC8587.jpg
ORGANIZER;CN="Red River Nordic & Biathlon Club":MAILTO:rrn.skiandbiathlon@gmail.com
END:VEVENT
END:VCALENDAR