BEGIN:VCALENDAR
VERSION:2.0
PRODID:-//CCSAM - ECPv6.15.20//NONSGML v1.0//EN
CALSCALE:GREGORIAN
METHOD:PUBLISH
X-WR-CALNAME:CCSAM
X-ORIGINAL-URL:https://ccsam.ca
X-WR-CALDESC:Events for CCSAM
REFRESH-INTERVAL;VALUE=DURATION:PT1H
X-Robots-Tag:noindex
X-PUBLISHED-TTL:PT1H
BEGIN:VTIMEZONE
TZID:America/Winnipeg
BEGIN:DAYLIGHT
TZOFFSETFROM:-0600
TZOFFSETTO:-0500
TZNAME:CDT
DTSTART:20250309T080000
END:DAYLIGHT
BEGIN:STANDARD
TZOFFSETFROM:-0500
TZOFFSETTO:-0600
TZNAME:CST
DTSTART:20251102T070000
END:STANDARD
BEGIN:DAYLIGHT
TZOFFSETFROM:-0600
TZOFFSETTO:-0500
TZNAME:CDT
DTSTART:20260308T080000
END:DAYLIGHT
BEGIN:STANDARD
TZOFFSETFROM:-0500
TZOFFSETTO:-0600
TZNAME:CST
DTSTART:20261101T070000
END:STANDARD
BEGIN:DAYLIGHT
TZOFFSETFROM:-0600
TZOFFSETTO:-0500
TZNAME:CDT
DTSTART:20270314T080000
END:DAYLIGHT
BEGIN:STANDARD
TZOFFSETFROM:-0500
TZOFFSETTO:-0600
TZNAME:CST
DTSTART:20271107T070000
END:STANDARD
END:VTIMEZONE
BEGIN:VEVENT
DTSTART;VALUE=DATE:20260103
DTEND;VALUE=DATE:20260104
DTSTAMP:20260420T075627
CREATED:20250917T200822Z
LAST-MODIFIED:20251217T192351Z
UID:10000885-1767398400-1767484799@ccsam.ca
SUMMARY:Birchkin Pumpski 2026
DESCRIPTION:Registration\nNo pre-registration required. You can either bring cash to Birch on January 3rd\, or e-transfer the fee to: xcskibirch@gmail.com. If e-transferring\, please add the name(s) (First & Last) of who you’ve paid for in the e-transfer memo. Thanks! \n\nAdditional Info: \n\nAdditional Info:\nMake sure to plan your distances according to your ability.\nAs a Ski Tour (not a race)\, you can start anytime\, but we suggest you try to plan to finish before 3PM\, as we will start cleaning up event stuff (signs\, snacks\, etc) at that point.\nThere will be a Sign-In\, Sign-Out sheet at the Birch Chalet. This is a safety check\, to make sure\, at 3PM\, that everyone has returned safely. Please don’t forget to sign out when you’re done!\nIt’s a good idea for at least one member of your group to ski with a backpack that includes water or thermos with a hot drink\, snacks\, hotshots or other warming techniques\, waxes.\nThe 15km round trip is from the Birch Chalet to the Pumpkin Creek Clubhouse and back. There are plenty more kms to ski if you’re looking for more distance\, and some turn arounds if you’re looking for less.\nTo acknowledge the accomplishment of skiing from Birch to Pumpkin Creek and back\, if you’ve made the full trek\, please note your name on the Birchkin Pumpski Finisher List inside the Ski Birch Chalet.\nThere will be hot drinks and snacks available for purchase in the Birch Chalet when you’re done – Cookie & a Coffee/Hot Chocolate for $2.\n\nPaper copies of the route map will be available at the Ski Birch Chalet. A few days before the event\, we’ll post the map here\, as well\, so you can save it to your phone. \nThanks to Manitoba Liquor & Lotteries for the support\, and to Tétro Designs for our fun poster!
URL:https://ccsam.ca/event/birchkin-pumpski-2026/
LOCATION:Birch Ski Area\, Manitoba\, Canada
CATEGORIES:Recreational
ATTACH;FMTTYPE=image/jpeg:https://ccsam.ca/wp-content/uploads/2025/09/DRR-9528-Birchkin-Pumpski_Poster_8.5x11.jpg
ORGANIZER;CN="Ski Birch":MAILTO:xcskibirch@gmail.com
END:VEVENT
END:VCALENDAR