BEGIN:VCALENDAR
VERSION:2.0
PRODID:-//CCSAM - ECPv6.15.20//NONSGML v1.0//EN
CALSCALE:GREGORIAN
METHOD:PUBLISH
X-WR-CALNAME:CCSAM
X-ORIGINAL-URL:https://ccsam.ca
X-WR-CALDESC:Events for CCSAM
REFRESH-INTERVAL;VALUE=DURATION:PT1H
X-Robots-Tag:noindex
X-PUBLISHED-TTL:PT1H
BEGIN:VTIMEZONE
TZID:America/Winnipeg
BEGIN:DAYLIGHT
TZOFFSETFROM:-0600
TZOFFSETTO:-0500
TZNAME:CDT
DTSTART:20250309T080000
END:DAYLIGHT
BEGIN:STANDARD
TZOFFSETFROM:-0500
TZOFFSETTO:-0600
TZNAME:CST
DTSTART:20251102T070000
END:STANDARD
BEGIN:DAYLIGHT
TZOFFSETFROM:-0600
TZOFFSETTO:-0500
TZNAME:CDT
DTSTART:20260308T080000
END:DAYLIGHT
BEGIN:STANDARD
TZOFFSETFROM:-0500
TZOFFSETTO:-0600
TZNAME:CST
DTSTART:20261101T070000
END:STANDARD
BEGIN:DAYLIGHT
TZOFFSETFROM:-0600
TZOFFSETTO:-0500
TZNAME:CDT
DTSTART:20270314T080000
END:DAYLIGHT
BEGIN:STANDARD
TZOFFSETFROM:-0500
TZOFFSETTO:-0600
TZNAME:CST
DTSTART:20271107T070000
END:STANDARD
END:VTIMEZONE
BEGIN:VEVENT
DTSTART;TZID=America/Winnipeg:20260102T190000
DTEND;TZID=America/Winnipeg:20260102T190000
DTSTAMP:20260423T103354
CREATED:20251114T201134Z
LAST-MODIFIED:20251114T201134Z
UID:10000898-1767380400-1767380400@ccsam.ca
SUMMARY:CANSI Level 1 Certification Course
DESCRIPTION:Level I Instructor Certification course\nFriday evening Jan 2\, 7 – 9 pm; Sunday Jan 4\, 9am – 4pm; Wednesday evening Jan 7\, 7 – 9 pm;\nSunday Jan 18\, 9 am – 4 pm\, 2026.\nWindsor Park Nordic Centre and on-line\n$450 \nRegister: cansi.ca
URL:https://ccsam.ca/event/cansi-level-1-certification-course/
LOCATION:Windsor Park Nordic Centre\, 10 Rue Des Meurons\, Winnipeg\, Manitoba\, Canada
CATEGORIES:CANSI
ORGANIZER;CN="Ken Schykulski":MAILTO:kschyk@mymts.net
END:VEVENT
BEGIN:VEVENT
DTSTART;VALUE=DATE:20260103
DTEND;VALUE=DATE:20260104
DTSTAMP:20260423T103354
CREATED:20250917T200822Z
LAST-MODIFIED:20251217T192351Z
UID:10000885-1767398400-1767484799@ccsam.ca
SUMMARY:Birchkin Pumpski 2026
DESCRIPTION:Registration\nNo pre-registration required. You can either bring cash to Birch on January 3rd\, or e-transfer the fee to: xcskibirch@gmail.com. If e-transferring\, please add the name(s) (First & Last) of who you’ve paid for in the e-transfer memo. Thanks! \n\nAdditional Info: \n\nAdditional Info:\nMake sure to plan your distances according to your ability.\nAs a Ski Tour (not a race)\, you can start anytime\, but we suggest you try to plan to finish before 3PM\, as we will start cleaning up event stuff (signs\, snacks\, etc) at that point.\nThere will be a Sign-In\, Sign-Out sheet at the Birch Chalet. This is a safety check\, to make sure\, at 3PM\, that everyone has returned safely. Please don’t forget to sign out when you’re done!\nIt’s a good idea for at least one member of your group to ski with a backpack that includes water or thermos with a hot drink\, snacks\, hotshots or other warming techniques\, waxes.\nThe 15km round trip is from the Birch Chalet to the Pumpkin Creek Clubhouse and back. There are plenty more kms to ski if you’re looking for more distance\, and some turn arounds if you’re looking for less.\nTo acknowledge the accomplishment of skiing from Birch to Pumpkin Creek and back\, if you’ve made the full trek\, please note your name on the Birchkin Pumpski Finisher List inside the Ski Birch Chalet.\nThere will be hot drinks and snacks available for purchase in the Birch Chalet when you’re done – Cookie & a Coffee/Hot Chocolate for $2.\n\nPaper copies of the route map will be available at the Ski Birch Chalet. A few days before the event\, we’ll post the map here\, as well\, so you can save it to your phone. \nThanks to Manitoba Liquor & Lotteries for the support\, and to Tétro Designs for our fun poster!
URL:https://ccsam.ca/event/birchkin-pumpski-2026/
LOCATION:Birch Ski Area\, Manitoba\, Canada
CATEGORIES:Recreational
ATTACH;FMTTYPE=image/jpeg:https://ccsam.ca/wp-content/uploads/2025/09/DRR-9528-Birchkin-Pumpski_Poster_8.5x11.jpg
ORGANIZER;CN="Ski Birch":MAILTO:xcskibirch@gmail.com
END:VEVENT
BEGIN:VEVENT
DTSTART;VALUE=DATE:20260110
DTEND;VALUE=DATE:20260112
DTSTAMP:20260423T103354
CREATED:20250917T201443Z
LAST-MODIFIED:20251222T143156Z
UID:10000886-1768003200-1768175999@ccsam.ca
SUMMARY:Kenora Combined 2026 + MB Games Team East qualifier
DESCRIPTION:Race Notice: KNBC January 10&11\, 2026 combined race notice \nRegistration deadline: Jan 4\, 2026 10:00 PM \n \nSaturday – Nordic race + Manitoba Winter Games qualifier race for Team East\nSunday – Biathlon race \nskikenora.ca
URL:https://ccsam.ca/event/kenora-combined-2026-mb-games-team-east-qualifier/
LOCATION:Mount Evergreen\, Kenora\, Ontario\, Canada
CATEGORIES:Competition or Loppet
END:VEVENT
BEGIN:VEVENT
DTSTART;VALUE=DATE:20260117
DTEND;VALUE=DATE:20260118
DTSTAMP:20260423T103354
CREATED:20250917T201742Z
LAST-MODIFIED:20260117T014429Z
UID:10000887-1768608000-1768694399@ccsam.ca
SUMMARY:Birch Open 2026 + MB Games Teams South & West qualifier - CANCELLED
DESCRIPTION:UPDATE 16 JAN: Unfortunately due to the severe winter storm closing Highways 1\, 2\, & 3 today\, the grooming team cannot get out to Birch tonight and are not able to groom the trails in time for the race. With continued storms forecasted through Saturday night\, Sunday is not a viable option and next weekend is not an option for the race organizing crew either.  \nAthletes from the West & South regions who registered for this race intending to qualify for Manitoba Games will be contacted by CCSAM Executive Director\, after receiving the race start list and determining the best alternative selection procedure. \n  \nRace Notice: Birch Open Free Technique Race – Jan 17 2026 – Race notice-v2 \nRegistration deadline: Fri Jan 16th 12:30 PM \n \nManitoba Winter Games qualifier race for Team West and Team South
URL:https://ccsam.ca/event/birch-open-2026-mb-games-teams-south-west-qualifier/
LOCATION:Birch Ski Area\, Manitoba\, Canada
CATEGORIES:Competition or Loppet
ORGANIZER;CN="Ski Birch":MAILTO:xcskibirch@gmail.com
END:VEVENT
BEGIN:VEVENT
DTSTART;VALUE=DATE:20260131
DTEND;VALUE=DATE:20260202
DTSTAMP:20260423T103354
CREATED:20251201T194419Z
LAST-MODIFIED:20260126T162001Z
UID:10000901-1769817600-1769990399@ccsam.ca
SUMMARY:Kenora Skiathlon & Biathlon Cup #2
DESCRIPTION:Nordic race – Saturday\, January 31 at Mount Evergreen \nBiathlon race – Sunday\, February 1 at the Lake of the Woods Gun Club \nRace notice: KNBC-January 31-February 1-2026-combined-race-notice
URL:https://ccsam.ca/event/kenora-combined-2/
LOCATION:Mount Evergreen\, Kenora\, Ontario\, Canada
CATEGORIES:Competition or Loppet
ORGANIZER;CN="Todd Burkhart":MAILTO:Tburkart50@gmail.com
END:VEVENT
END:VCALENDAR